BEGIN:VCALENDAR
VERSION:2.0
PRODID:-//Plone.org//NONSGML plone.app.event//EN
X-WR-TIMEZONE:Africa/Johannesburg
BEGIN:VEVENT
SUMMARY:Maputo - Mozambique Annual Conference
DTSTART;TZID=Africa/Johannesburg;VALUE=DATE-TIME:20231205T090000
DTEND;TZID=Africa/Johannesburg;VALUE=DATE-TIME:20231206T170000
DTSTAMP;VALUE=DATE-TIME:20260420T200742Z
UID:fdcdbd20a2814f43ab75a02ef6c57cc5@167.172.48.169:8292
CREATED;VALUE=DATE-TIME:20231205T211227Z
DESCRIPTION:Making Qualifications Frameworks operational in a changing Wor
 ld (part 111) - ACQF annual conference
LAST-MODIFIED;VALUE=DATE-TIME:20240101T211444Z
LOCATION:Maputo- Mozambique
URL:https://eqa.co.sz/events/maputo-mozambique-annual-conference
END:VEVENT
BEGIN:VTIMEZONE
TZID:Africa/Johannesburg
X-LIC-LOCATION:Africa/Johannesburg
BEGIN:STANDARD
DTSTART;VALUE=DATE-TIME:19440319T010000
TZNAME:SAST
TZOFFSETFROM:+0300
TZOFFSETTO:+0200
END:STANDARD
END:VTIMEZONE
END:VCALENDAR
